BEGIN:VCALENDAR
VERSION:2.0
PRODID:-//Sallie Bingham - ECPv6.15.20//NONSGML v1.0//EN
CALSCALE:GREGORIAN
METHOD:PUBLISH
X-WR-CALNAME:Sallie Bingham
X-ORIGINAL-URL:https://www.salliebingham.com
X-WR-CALDESC:Events for Sallie Bingham
REFRESH-INTERVAL;VALUE=DURATION:PT1H
X-Robots-Tag:noindex
X-PUBLISHED-TTL:PT1H
BEGIN:VTIMEZONE
TZID:America/Denver
BEGIN:DAYLIGHT
TZOFFSETFROM:-0700
TZOFFSETTO:-0600
TZNAME:MDT
DTSTART:20110313T090000
END:DAYLIGHT
BEGIN:STANDARD
TZOFFSETFROM:-0600
TZOFFSETTO:-0700
TZNAME:MST
DTSTART:20111106T080000
END:STANDARD
BEGIN:DAYLIGHT
TZOFFSETFROM:-0700
TZOFFSETTO:-0600
TZNAME:MDT
DTSTART:20120311T090000
END:DAYLIGHT
BEGIN:STANDARD
TZOFFSETFROM:-0600
TZOFFSETTO:-0700
TZNAME:MST
DTSTART:20121104T080000
END:STANDARD
BEGIN:DAYLIGHT
TZOFFSETFROM:-0700
TZOFFSETTO:-0600
TZNAME:MDT
DTSTART:20130310T090000
END:DAYLIGHT
BEGIN:STANDARD
TZOFFSETFROM:-0600
TZOFFSETTO:-0700
TZNAME:MST
DTSTART:20131103T080000
END:STANDARD
BEGIN:DAYLIGHT
TZOFFSETFROM:-0700
TZOFFSETTO:-0600
TZNAME:MDT
DTSTART:20140309T090000
END:DAYLIGHT
BEGIN:STANDARD
TZOFFSETFROM:-0600
TZOFFSETTO:-0700
TZNAME:MST
DTSTART:20141102T080000
END:STANDARD
BEGIN:DAYLIGHT
TZOFFSETFROM:-0700
TZOFFSETTO:-0600
TZNAME:MDT
DTSTART:20150308T090000
END:DAYLIGHT
BEGIN:STANDARD
TZOFFSETFROM:-0600
TZOFFSETTO:-0700
TZNAME:MST
DTSTART:20151101T080000
END:STANDARD
END:VTIMEZONE
BEGIN:VEVENT
DTSTART;TZID=America/Denver:20140813T173000
DTEND;TZID=America/Denver:20140813T202500
DTSTAMP:20260421T221231
CREATED:20140716T210717Z
LAST-MODIFIED:20140716T210848Z
UID:10000117-1407951000-1407961500@www.salliebingham.com
SUMMARY:Participatory Artist Enrichment Grant Workshop - Lexington
DESCRIPTION:Presented by the Kentucky Foundation for Women. \nAll workshops include networking time and discussions of feminism\, art for social change and grant application components. Free and open to the public. Healthy snacks or light meal provided. \nPlease RSVP to jenrose@kfw.org to participate.  For more information\, visit http://www.kfw.org or call the KFW office at 502-562-0045 or toll free 1-866-654-7564. \nThe Artist Enrichment Grant Application and Additional Information are now available on the KFW website. Deadline: September 5\, 2014. \nShareTweetShareBuffer0 Shares
URL:https://www.salliebingham.com/event/participatory-artist-enrichment-grant-workshop-lexington/
LOCATION:Lexington Public Library – Central Library\, 140 East Main Street\, Lexington\, KY\, 40507\, United States
CATEGORIES:Workshop
ATTACH;FMTTYPE=image/jpeg:https://www.salliebingham.com/wp-content/uploads/kfw1.jpg
ORGANIZER;CN="Kentucky Foundation for Women":MAILTO:jenrose@kfw.org
GEO:38.0453225;-84.4965517
X-APPLE-STRUCTURED-LOCATION;VALUE=URI;X-ADDRESS=Lexington Public Library – Central Library 140 East Main Street Lexington KY 40507 United States;X-APPLE-RADIUS=500;X-TITLE=140 East Main Street:geo:-84.4965517,38.0453225
END:VEVENT
BEGIN:VEVENT
DTSTART;TZID=America/Denver:20120518T180000
DTEND;TZID=America/Denver:20120518T230059
DTSTAMP:20260421T221231
CREATED:20120503T144921Z
LAST-MODIFIED:20120504T014854Z
UID:10000106-1337364000-1337382059@www.salliebingham.com
SUMMARY:A Night of Literary Feasts
DESCRIPTION:Sallie will be participating in the “Night of Literary Feasts” event to benefit the Lexington Public Library. \nAuthors Reception Reception\nFriday\, May 18\, 2012\n6:00 – 7:30 p.m.\nBook Signing featuring Literary Guests of Honor\nCentral Library\n140 East Main Street\nLexington \nLiterary Dinners\n8:00 p.m.\nDinner Host Assignments and Directions will be given to each guest upon check-in at the Cocktail Reception \nCocktail Attire \nThis event is $250 per person for a guaranteed placement with one of your top two\nauthor selections or $150 for an unguaranteed placement. \nTo register online\, visit: http://www.lexpublib.org/foundation/feasts2012/reservations \nFor further information please visit http://www.lexpublib.org/foundation/feasts2012 or call Bill Watts at  859-231-5557 \nPromotional video (may not be playable in older browsers): \n\n\n\nShareTweetShareBuffer0 Shares
URL:https://www.salliebingham.com/event/night-literary-feasts/
LOCATION:Lexington Public Library – Central Library\, 140 East Main Street\, Lexington\, KY\, 40507\, United States
CATEGORIES:Reading
ATTACH;FMTTYPE=image/jpeg:https://www.salliebingham.com/wp-content/uploads/mending_cover_thumb_150.jpg
GEO:38.0453225;-84.4965517
X-APPLE-STRUCTURED-LOCATION;VALUE=URI;X-ADDRESS=Lexington Public Library – Central Library 140 East Main Street Lexington KY 40507 United States;X-APPLE-RADIUS=500;X-TITLE=140 East Main Street:geo:-84.4965517,38.0453225
END:VEVENT
END:VCALENDAR