BEGIN:VCALENDAR
VERSION:2.0
PRODID:-//Sallie Bingham - ECPv6.15.20//NONSGML v1.0//EN
CALSCALE:GREGORIAN
METHOD:PUBLISH
X-ORIGINAL-URL:https://www.salliebingham.com
X-WR-CALDESC:Events for Sallie Bingham
REFRESH-INTERVAL;VALUE=DURATION:PT1H
X-Robots-Tag:noindex
X-PUBLISHED-TTL:PT1H
BEGIN:VTIMEZONE
TZID:America/Kentucky/Louisville
BEGIN:DAYLIGHT
TZOFFSETFROM:-0500
TZOFFSETTO:-0400
TZNAME:EDT
DTSTART:20240310T070000
END:DAYLIGHT
BEGIN:STANDARD
TZOFFSETFROM:-0400
TZOFFSETTO:-0500
TZNAME:EST
DTSTART:20241103T060000
END:STANDARD
BEGIN:DAYLIGHT
TZOFFSETFROM:-0500
TZOFFSETTO:-0400
TZNAME:EDT
DTSTART:20250309T070000
END:DAYLIGHT
BEGIN:STANDARD
TZOFFSETFROM:-0400
TZOFFSETTO:-0500
TZNAME:EST
DTSTART:20251102T060000
END:STANDARD
BEGIN:DAYLIGHT
TZOFFSETFROM:-0500
TZOFFSETTO:-0400
TZNAME:EDT
DTSTART:20260308T070000
END:DAYLIGHT
BEGIN:STANDARD
TZOFFSETFROM:-0400
TZOFFSETTO:-0500
TZNAME:EST
DTSTART:20261101T060000
END:STANDARD
END:VTIMEZONE
BEGIN:VTIMEZONE
TZID:America/Denver
BEGIN:DAYLIGHT
TZOFFSETFROM:-0700
TZOFFSETTO:-0600
TZNAME:MDT
DTSTART:20100314T090000
END:DAYLIGHT
BEGIN:STANDARD
TZOFFSETFROM:-0600
TZOFFSETTO:-0700
TZNAME:MST
DTSTART:20101107T080000
END:STANDARD
BEGIN:DAYLIGHT
TZOFFSETFROM:-0700
TZOFFSETTO:-0600
TZNAME:MDT
DTSTART:20110313T090000
END:DAYLIGHT
BEGIN:STANDARD
TZOFFSETFROM:-0600
TZOFFSETTO:-0700
TZNAME:MST
DTSTART:20111106T080000
END:STANDARD
BEGIN:DAYLIGHT
TZOFFSETFROM:-0700
TZOFFSETTO:-0600
TZNAME:MDT
DTSTART:20120311T090000
END:DAYLIGHT
BEGIN:STANDARD
TZOFFSETFROM:-0600
TZOFFSETTO:-0700
TZNAME:MST
DTSTART:20121104T080000
END:STANDARD
BEGIN:DAYLIGHT
TZOFFSETFROM:-0700
TZOFFSETTO:-0600
TZNAME:MDT
DTSTART:20130310T090000
END:DAYLIGHT
BEGIN:STANDARD
TZOFFSETFROM:-0600
TZOFFSETTO:-0700
TZNAME:MST
DTSTART:20131103T080000
END:STANDARD
BEGIN:DAYLIGHT
TZOFFSETFROM:-0700
TZOFFSETTO:-0600
TZNAME:MDT
DTSTART:20140309T090000
END:DAYLIGHT
BEGIN:STANDARD
TZOFFSETFROM:-0600
TZOFFSETTO:-0700
TZNAME:MST
DTSTART:20141102T080000
END:STANDARD
BEGIN:DAYLIGHT
TZOFFSETFROM:-0700
TZOFFSETTO:-0600
TZNAME:MDT
DTSTART:20150308T090000
END:DAYLIGHT
BEGIN:STANDARD
TZOFFSETFROM:-0600
TZOFFSETTO:-0700
TZNAME:MST
DTSTART:20151101T080000
END:STANDARD
BEGIN:DAYLIGHT
TZOFFSETFROM:-0700
TZOFFSETTO:-0600
TZNAME:MDT
DTSTART:20160313T090000
END:DAYLIGHT
BEGIN:STANDARD
TZOFFSETFROM:-0600
TZOFFSETTO:-0700
TZNAME:MST
DTSTART:20161106T080000
END:STANDARD
BEGIN:DAYLIGHT
TZOFFSETFROM:-0700
TZOFFSETTO:-0600
TZNAME:MDT
DTSTART:20170312T090000
END:DAYLIGHT
BEGIN:STANDARD
TZOFFSETFROM:-0600
TZOFFSETTO:-0700
TZNAME:MST
DTSTART:20171105T080000
END:STANDARD
BEGIN:DAYLIGHT
TZOFFSETFROM:-0700
TZOFFSETTO:-0600
TZNAME:MDT
DTSTART:20180311T090000
END:DAYLIGHT
BEGIN:STANDARD
TZOFFSETFROM:-0600
TZOFFSETTO:-0700
TZNAME:MST
DTSTART:20181104T080000
END:STANDARD
BEGIN:DAYLIGHT
TZOFFSETFROM:-0700
TZOFFSETTO:-0600
TZNAME:MDT
DTSTART:20190310T090000
END:DAYLIGHT
BEGIN:STANDARD
TZOFFSETFROM:-0600
TZOFFSETTO:-0700
TZNAME:MST
DTSTART:20191103T080000
END:STANDARD
BEGIN:DAYLIGHT
TZOFFSETFROM:-0700
TZOFFSETTO:-0600
TZNAME:MDT
DTSTART:20200308T090000
END:DAYLIGHT
BEGIN:STANDARD
TZOFFSETFROM:-0600
TZOFFSETTO:-0700
TZNAME:MST
DTSTART:20201101T080000
END:STANDARD
BEGIN:DAYLIGHT
TZOFFSETFROM:-0700
TZOFFSETTO:-0600
TZNAME:MDT
DTSTART:20210314T090000
END:DAYLIGHT
BEGIN:STANDARD
TZOFFSETFROM:-0600
TZOFFSETTO:-0700
TZNAME:MST
DTSTART:20211107T080000
END:STANDARD
BEGIN:DAYLIGHT
TZOFFSETFROM:-0700
TZOFFSETTO:-0600
TZNAME:MDT
DTSTART:20220313T090000
END:DAYLIGHT
BEGIN:STANDARD
TZOFFSETFROM:-0600
TZOFFSETTO:-0700
TZNAME:MST
DTSTART:20221106T080000
END:STANDARD
BEGIN:DAYLIGHT
TZOFFSETFROM:-0700
TZOFFSETTO:-0600
TZNAME:MDT
DTSTART:20230312T090000
END:DAYLIGHT
BEGIN:STANDARD
TZOFFSETFROM:-0600
TZOFFSETTO:-0700
TZNAME:MST
DTSTART:20231105T080000
END:STANDARD
BEGIN:DAYLIGHT
TZOFFSETFROM:-0700
TZOFFSETTO:-0600
TZNAME:MDT
DTSTART:20240310T090000
END:DAYLIGHT
BEGIN:STANDARD
TZOFFSETFROM:-0600
TZOFFSETTO:-0700
TZNAME:MST
DTSTART:20241103T080000
END:STANDARD
BEGIN:DAYLIGHT
TZOFFSETFROM:-0700
TZOFFSETTO:-0600
TZNAME:MDT
DTSTART:20250309T090000
END:DAYLIGHT
BEGIN:STANDARD
TZOFFSETFROM:-0600
TZOFFSETTO:-0700
TZNAME:MST
DTSTART:20251102T080000
END:STANDARD
END:VTIMEZONE
BEGIN:VEVENT
DTSTART;TZID=America/Kentucky/Louisville:20250519T133000
DTEND;TZID=America/Kentucky/Louisville:20250521T163000
DTSTAMP:20260421T121507
CREATED:20250222T032425Z
LAST-MODIFIED:20250222T032627Z
UID:10000159-1747661400-1747845000@www.salliebingham.com
SUMMARY:Beyond Memoir: Empowering the Imagination by Writing Historical Fiction – Spring 2025
DESCRIPTION:To prepare for this workshop\, please read my book Taken by the Shawnee. \nThe workshop will begin with a discussion of memoir; if you are working on one\, you will have a chance to read five pages and discuss. We will consider the questions “how does memoir differ from historical fiction?” and “what value can knowledge of the history of a time and place add to these genres?” We will discuss Margaret Erskine’s brief account of her four years in a Shawnee camp and consider how research expands her memoir. Finally\, using an example from your own experience\, you will present a short biographical draft (under five pages) incorporating research-informed historical details to expand the subject’s time and place. \nThis class is suitable for intermediate levels. \nFor more information and to register\, visit the Carnegie Center website. \nShareTweetShareBuffer0 Shares
URL:https://www.salliebingham.com/event/beyond-memoir-empowering-the-imagination-by-writing-historical-fiction-spring-2025/
LOCATION:Carnegie Center for Literacy and Learning\, 251 West 2nd Street\, Lexington\, KY\, 40507-1135\, United States
CATEGORIES:Workshop
ATTACH;FMTTYPE=image/png:https://www.salliebingham.com/wp-content/uploads/carnegie-logo-thumb.png
ORGANIZER;CN="Carnegie Center for Literacy & Learning":MAILTO:info@carnegiecenterlex.org
GEO:38.049979;-84.495702
X-APPLE-STRUCTURED-LOCATION;VALUE=URI;X-ADDRESS=Carnegie Center for Literacy and Learning 251 West 2nd Street Lexington KY 40507-1135 United States;X-APPLE-RADIUS=500;X-TITLE=251 West 2nd Street:geo:-84.495702,38.049979
END:VEVENT
BEGIN:VEVENT
DTSTART;TZID=America/Denver:20240426T163000
DTEND;TZID=America/Denver:20240428T140000
DTSTAMP:20260421T121507
CREATED:20240201T191958Z
LAST-MODIFIED:20240201T200320Z
UID:10000148-1714149000-1714312800@www.salliebingham.com
SUMMARY:Writing Memoir/Writing History – Spring 2024
DESCRIPTION:I believe that the genre of memoir\, somewhat overused now\, can be refreshed and made more relevant by considering the fact that when we write memoir we are in fact writing history. Especially as women\, we have access to the forgotten or ignored cracks and crannies of life. We rely on research\, especially with family documents and photographs—wills\, letters\, news stories\, obituaries—of people “of no importance” whose crucial stories are so often left out of official histories. \nThe class meets in-person on Friday\, April 26\, 4:30-7:30PM and on Saturday & Sunday\, April 27 & 28\, 11:00AM–2:00PM \nThis class is suitable for intermediate level writers. \nRegistration for this in-person workshop is now open. \nShareTweetShareBuffer0 Shares
URL:https://www.salliebingham.com/event/writing-memoir-writing-history-spring-2024/
LOCATION:Carnegie Center for Literacy and Learning\, 251 West 2nd Street\, Lexington\, KY\, 40507-1135\, United States
CATEGORIES:Workshop
ATTACH;FMTTYPE=image/png:https://www.salliebingham.com/wp-content/uploads/carnegie-logo-thumb.png
ORGANIZER;CN="Carnegie Center for Literacy & Learning":MAILTO:info@carnegiecenterlex.org
GEO:38.049979;-84.495702
X-APPLE-STRUCTURED-LOCATION;VALUE=URI;X-ADDRESS=Carnegie Center for Literacy and Learning 251 West 2nd Street Lexington KY 40507-1135 United States;X-APPLE-RADIUS=500;X-TITLE=251 West 2nd Street:geo:-84.495702,38.049979
END:VEVENT
BEGIN:VEVENT
DTSTART;TZID=America/Denver:20111015T110000
DTEND;TZID=America/Denver:20111015T130000
DTSTAMP:20260421T121507
CREATED:20110803T202624Z
LAST-MODIFIED:20110803T203048Z
UID:10000100-1318676400-1318683600@www.salliebingham.com
SUMMARY:Writing Your Life: Fiction as Transformation
DESCRIPTION:What is a crucial event? How can “fact” be transformed through changes in point of view? Does it work to change name\, place\, time\, etc.? Why is transformation not hiding? In this seminar\, we’ll look at these questions and apply them to inspire and improve our writing! \nIf you’re interested in receiving in-depth writing feedback from Sallie during the seminar\, email a sample of your fiction (5 pages maximum) to CCLL1@carnegieliteracy.org by September 30.  Submission of your work is not required for the seminar. \nMore information can be found on the Carnegie Center for Literacy and Learning website. \n\nShareTweetShareBuffer0 Shares
URL:https://www.salliebingham.com/event/writing-life-fiction-transformation/
LOCATION:Carnegie Center for Literacy and Learning\, 251 West 2nd Street\, Lexington\, KY\, 40507-1135\, United States
CATEGORIES:Workshop
ATTACH;FMTTYPE=image/jpeg:https://www.salliebingham.com/wp-content/uploads/Sallie_Bingham_2000_comp_150.jpg
GEO:38.049979;-84.495702
X-APPLE-STRUCTURED-LOCATION;VALUE=URI;X-ADDRESS=Carnegie Center for Literacy and Learning 251 West 2nd Street Lexington KY 40507-1135 United States;X-APPLE-RADIUS=500;X-TITLE=251 West 2nd Street:geo:-84.495702,38.049979
END:VEVENT
END:VCALENDAR