BEGIN:VCALENDAR
VERSION:2.0
PRODID:-//Sallie Bingham - ECPv6.15.20//NONSGML v1.0//EN
CALSCALE:GREGORIAN
METHOD:PUBLISH
X-ORIGINAL-URL:https://www.salliebingham.com
X-WR-CALDESC:Events for Sallie Bingham
REFRESH-INTERVAL;VALUE=DURATION:PT1H
X-Robots-Tag:noindex
X-PUBLISHED-TTL:PT1H
BEGIN:VTIMEZONE
TZID:America/Denver
BEGIN:DAYLIGHT
TZOFFSETFROM:-0700
TZOFFSETTO:-0600
TZNAME:MDT
DTSTART:20100314T090000
END:DAYLIGHT
BEGIN:STANDARD
TZOFFSETFROM:-0600
TZOFFSETTO:-0700
TZNAME:MST
DTSTART:20101107T080000
END:STANDARD
BEGIN:DAYLIGHT
TZOFFSETFROM:-0700
TZOFFSETTO:-0600
TZNAME:MDT
DTSTART:20110313T090000
END:DAYLIGHT
BEGIN:STANDARD
TZOFFSETFROM:-0600
TZOFFSETTO:-0700
TZNAME:MST
DTSTART:20111106T080000
END:STANDARD
BEGIN:DAYLIGHT
TZOFFSETFROM:-0700
TZOFFSETTO:-0600
TZNAME:MDT
DTSTART:20120311T090000
END:DAYLIGHT
BEGIN:STANDARD
TZOFFSETFROM:-0600
TZOFFSETTO:-0700
TZNAME:MST
DTSTART:20121104T080000
END:STANDARD
END:VTIMEZONE
BEGIN:VEVENT
DTSTART;TZID=America/Denver:20110910T140000
DTEND;TZID=America/Denver:20110910T150000
DTSTAMP:20260420T051045
CREATED:20110706T173429Z
LAST-MODIFIED:20110822T190213Z
UID:10000099-1315663200-1315666800@www.salliebingham.com
SUMMARY:Sallie Reading from Mending: New and Selected Stories
DESCRIPTION:Sallie will be reading from her new book\, Mending: New and Selected Stories\, published by Sarabande Books.  A discussion will follow. \nAlamosa Books is located on the northwest corner of Paseo del Norte and Ventura\, next to Saxby’s coffee shop. \nShareTweetShareBuffer0 Shares
URL:https://www.salliebingham.com/event/sallie-reading-mending-selected-stories/
LOCATION:Alamosa Books\, 8810 Holly Ave NE\, Ste D\, Albuquerque\, NM\, 87122\, United States
CATEGORIES:Reading
ATTACH;FMTTYPE=image/jpeg:https://www.salliebingham.com/wp-content/uploads/Sallie_Bingham_2000_comp_150.jpg
GEO:35.1754865;-106.5463297
X-APPLE-STRUCTURED-LOCATION;VALUE=URI;X-ADDRESS=Alamosa Books 8810 Holly Ave NE Ste D Albuquerque NM 87122 United States;X-APPLE-RADIUS=500;X-TITLE=8810 Holly Ave NE\, Ste D:geo:-106.5463297,35.1754865
END:VEVENT
END:VCALENDAR