BEGIN:VCALENDAR
VERSION:2.0
PRODID:-//Sallie Bingham - ECPv6.15.20//NONSGML v1.0//EN
CALSCALE:GREGORIAN
METHOD:PUBLISH
X-WR-CALNAME:Sallie Bingham
X-ORIGINAL-URL:https://www.salliebingham.com
X-WR-CALDESC:Events for Sallie Bingham
REFRESH-INTERVAL;VALUE=DURATION:PT1H
X-Robots-Tag:noindex
X-PUBLISHED-TTL:PT1H
BEGIN:VTIMEZONE
TZID:America/Denver
BEGIN:DAYLIGHT
TZOFFSETFROM:-0700
TZOFFSETTO:-0600
TZNAME:MDT
DTSTART:20130310T090000
END:DAYLIGHT
BEGIN:STANDARD
TZOFFSETFROM:-0600
TZOFFSETTO:-0700
TZNAME:MST
DTSTART:20131103T080000
END:STANDARD
BEGIN:DAYLIGHT
TZOFFSETFROM:-0700
TZOFFSETTO:-0600
TZNAME:MDT
DTSTART:20140309T090000
END:DAYLIGHT
BEGIN:STANDARD
TZOFFSETFROM:-0600
TZOFFSETTO:-0700
TZNAME:MST
DTSTART:20141102T080000
END:STANDARD
BEGIN:DAYLIGHT
TZOFFSETFROM:-0700
TZOFFSETTO:-0600
TZNAME:MDT
DTSTART:20150308T090000
END:DAYLIGHT
BEGIN:STANDARD
TZOFFSETFROM:-0600
TZOFFSETTO:-0700
TZNAME:MST
DTSTART:20151101T080000
END:STANDARD
END:VTIMEZONE
BEGIN:VEVENT
DTSTART;TZID=America/Denver:20141014T100000
DTEND;TZID=America/Denver:20141014T120000
DTSTAMP:20260422T064547
CREATED:20140716T203536Z
LAST-MODIFIED:20141014T165004Z
UID:10000114-1413280800-1413288000@www.salliebingham.com
SUMMARY:Reading from The Blue Box at The New York Society Library
DESCRIPTION:When we come into possession of family letters\, we may initially not know what to do with them. Sallie Bingham will discuss using techniques of fiction and research to both use and transcend the purely personal. \nShareTweetShareBuffer0 Shares
URL:https://www.salliebingham.com/event/reading-the-blue-box-new-york-society-library/
LOCATION:The New York Society Library\, 53 East 79th Street\, New York\, NY\, 10075\, United States
CATEGORIES:Reading
ATTACH;FMTTYPE=image/jpeg:https://www.salliebingham.com/wp-content/uploads/TheBlueBox_biblio_300.jpg
GEO:40.77634;-73.96144
X-APPLE-STRUCTURED-LOCATION;VALUE=URI;X-ADDRESS=The New York Society Library 53 East 79th Street New York NY 10075 United States;X-APPLE-RADIUS=500;X-TITLE=53 East 79th Street:geo:-73.96144,40.77634
END:VEVENT
BEGIN:VEVENT
DTSTART;TZID=America/Denver:20140920T140000
DTEND;TZID=America/Denver:20140920T160000
DTSTAMP:20260422T064547
CREATED:20140716T201029Z
LAST-MODIFIED:20140716T211052Z
UID:10000110-1411221600-1411228800@www.salliebingham.com
SUMMARY:Reading from The Blue Box at Garcia Street Books
DESCRIPTION:Sallie will be reading from her new book\, The Blue Box: Three Lives in Letters. \nShareTweetShareBuffer0 Shares
URL:https://www.salliebingham.com/event/reading-the-blue-box-garcia-street-books/
LOCATION:Garcia Street Books\, 376 Garcia St.\, Santa Fe\, NM\, 87501\, United States
CATEGORIES:Reading
ATTACH;FMTTYPE=image/jpeg:https://www.salliebingham.com/wp-content/uploads/TheBlueBox_biblio_300.jpg
GEO:35.6804273;-105.9335952
X-APPLE-STRUCTURED-LOCATION;VALUE=URI;X-ADDRESS=Garcia Street Books 376 Garcia St. Santa Fe NM 87501 United States;X-APPLE-RADIUS=500;X-TITLE=376 Garcia St.:geo:-105.9335952,35.6804273
END:VEVENT
BEGIN:VEVENT
DTSTART;TZID=America/Denver:20140918T180000
DTEND;TZID=America/Denver:20140918T200000
DTSTAMP:20260422T064547
CREATED:20140716T201642Z
LAST-MODIFIED:20140716T203839Z
UID:10000111-1411063200-1411070400@www.salliebingham.com
SUMMARY:Reading from The Blue Box at The Filson Historical Society
DESCRIPTION:Sallie will be reading from her new book\, The Blue Box: Three Lives in Letters. \nShareTweetShareBuffer0 Shares
URL:https://www.salliebingham.com/event/reading-the-blue-box-filson-historical-society/
LOCATION:The Filson Historical Society\, 1310 S. Third Street\, Louisville\, KY\, 40208\, United States
CATEGORIES:Reading
ATTACH;FMTTYPE=image/jpeg:https://www.salliebingham.com/wp-content/uploads/TheBlueBox_biblio_300.jpg
GEO:38.2322788;-85.7591439
X-APPLE-STRUCTURED-LOCATION;VALUE=URI;X-ADDRESS=The Filson Historical Society 1310 S. Third Street Louisville KY 40208 United States;X-APPLE-RADIUS=500;X-TITLE=1310 S. Third Street:geo:-85.7591439,38.2322788
END:VEVENT
BEGIN:VEVENT
DTSTART;TZID=America/Denver:20140916T190000
DTEND;TZID=America/Denver:20140916T210000
DTSTAMP:20260422T064547
CREATED:20140716T201925Z
LAST-MODIFIED:20140716T203801Z
UID:10000112-1410894000-1410901200@www.salliebingham.com
SUMMARY:Reading from The Blue Box at Carmichaels
DESCRIPTION:Sallie will be reading from her new book\, The Blue Box: Three Lives in Letters. \nShareTweetShareBuffer0 Shares
URL:https://www.salliebingham.com/event/reading-the-blue-box-carmichaels/
LOCATION:Carmichael’s Bookstore – Frankfort\, 2720 Frankfort Ave\, Louisville\, KY\, 40206\, United States
CATEGORIES:Reading
ATTACH;FMTTYPE=image/jpeg:https://www.salliebingham.com/wp-content/uploads/TheBlueBox_biblio_300.jpg
GEO:38.254345;-85.693031
X-APPLE-STRUCTURED-LOCATION;VALUE=URI;X-ADDRESS=Carmichael’s Bookstore – Frankfort 2720 Frankfort Ave Louisville KY 40206 United States;X-APPLE-RADIUS=500;X-TITLE=2720 Frankfort Ave:geo:-85.693031,38.254345
END:VEVENT
BEGIN:VEVENT
DTSTART;TZID=America/Denver:20140915T140000
DTEND;TZID=America/Denver:20140915T140000
DTSTAMP:20260422T064547
CREATED:20140716T202658Z
LAST-MODIFIED:20140716T202917Z
UID:10000113-1410789600-1410789600@www.salliebingham.com
SUMMARY:Reading from The Blue Box at the Lawrence C. Falk Library
DESCRIPTION:Sallie will be reading from her new book\, The Blue Box: Three Lives in Letters. \nShareTweetShareBuffer0 Shares
URL:https://www.salliebingham.com/event/reading-the-blue-box-lawrence-falk-library/
LOCATION:Lawrence C. Falk Library – Prospect\, 9200 U.S. Highway 42\, Second Floor\, Prospect\, KY\, 40059\, United States
CATEGORIES:Reading
ATTACH;FMTTYPE=image/jpeg:https://www.salliebingham.com/wp-content/uploads/TheBlueBox_biblio_300.jpg
GEO:38.345068;-85.615517
X-APPLE-STRUCTURED-LOCATION;VALUE=URI;X-ADDRESS=Lawrence C. Falk Library – Prospect 9200 U.S. Highway 42 Second Floor Prospect KY 40059 United States;X-APPLE-RADIUS=500;X-TITLE=9200 U.S. Highway 42\, Second Floor:geo:-85.615517,38.345068
END:VEVENT
END:VCALENDAR