BEGIN:VCALENDAR
VERSION:2.0
PRODID:-//Sallie Bingham - ECPv6.15.20//NONSGML v1.0//EN
CALSCALE:GREGORIAN
METHOD:PUBLISH
X-WR-CALNAME:Sallie Bingham
X-ORIGINAL-URL:https://www.salliebingham.com
X-WR-CALDESC:Events for Sallie Bingham
REFRESH-INTERVAL;VALUE=DURATION:PT1H
X-Robots-Tag:noindex
X-PUBLISHED-TTL:PT1H
BEGIN:VTIMEZONE
TZID:America/Denver
BEGIN:DAYLIGHT
TZOFFSETFROM:-0700
TZOFFSETTO:-0600
TZNAME:MDT
DTSTART:20220313T090000
END:DAYLIGHT
BEGIN:STANDARD
TZOFFSETFROM:-0600
TZOFFSETTO:-0700
TZNAME:MST
DTSTART:20221106T080000
END:STANDARD
BEGIN:DAYLIGHT
TZOFFSETFROM:-0700
TZOFFSETTO:-0600
TZNAME:MDT
DTSTART:20230312T090000
END:DAYLIGHT
BEGIN:STANDARD
TZOFFSETFROM:-0600
TZOFFSETTO:-0700
TZNAME:MST
DTSTART:20231105T080000
END:STANDARD
BEGIN:DAYLIGHT
TZOFFSETFROM:-0700
TZOFFSETTO:-0600
TZNAME:MDT
DTSTART:20240310T090000
END:DAYLIGHT
BEGIN:STANDARD
TZOFFSETFROM:-0600
TZOFFSETTO:-0700
TZNAME:MST
DTSTART:20241103T080000
END:STANDARD
END:VTIMEZONE
BEGIN:VEVENT
DTSTART;TZID=America/Denver:20231020T180000
DTEND;TZID=America/Denver:20231020T200000
DTSTAMP:20260421T095520
CREATED:20230613T172827Z
LAST-MODIFIED:20230625T140104Z
UID:10000146-1697824800-1697832000@www.salliebingham.com
SUMMARY:Reading at Otero Arts Inc
DESCRIPTION:I’ll be reading at Otero Arts Inc in Almagordo\, New Mexico from 6-8pm on October 20th\, reading from and discussing my forthcoming book Taken by the Shawnee\, due in the Spring of 2024.  I’ll also be signing books. \nPlease join us! \nShareTweetShareBuffer0 Shares
URL:https://www.salliebingham.com/event/reading-otero-arts-inc-almagordo-nm/
LOCATION:Otero Arts Inc\, 1118 Indiana Ave.\, Almagordo\, NM\, 88311\, United States
CATEGORIES:Reading
ATTACH;FMTTYPE=image/webp:https://www.salliebingham.com/wp-content/uploads/17cade_1dda0a2440d94077bee9fef6685e309dmv2.webp
ORGANIZER;CN="Otero Arts Inc":MAILTO:oteroartsinc@gmail.com
GEO:32.9016794;-105.9561029
X-APPLE-STRUCTURED-LOCATION;VALUE=URI;X-ADDRESS=Otero Arts Inc 1118 Indiana Ave. Almagordo NM 88311 United States;X-APPLE-RADIUS=500;X-TITLE=1118 Indiana Ave.:geo:-105.9561029,32.9016794
END:VEVENT
END:VCALENDAR